BEGIN:VCALENDAR
VERSION:2.0
PRODID:-//Stoeger Canada - ECPv6.15.18//NONSGML v1.0//EN
CALSCALE:GREGORIAN
METHOD:PUBLISH
X-WR-CALNAME:Stoeger Canada
X-ORIGINAL-URL:https://www.stoegercanada.ca
X-WR-CALDESC:Events for Stoeger Canada
REFRESH-INTERVAL;VALUE=DURATION:PT1H
X-Robots-Tag:noindex
X-PUBLISHED-TTL:PT1H
BEGIN:VTIMEZONE
TZID:America/Toronto
BEGIN:DAYLIGHT
TZOFFSETFROM:-0500
TZOFFSETTO:-0400
TZNAME:EDT
DTSTART:20210314T070000
END:DAYLIGHT
BEGIN:STANDARD
TZOFFSETFROM:-0400
TZOFFSETTO:-0500
TZNAME:EST
DTSTART:20211107T060000
END:STANDARD
BEGIN:DAYLIGHT
TZOFFSETFROM:-0500
TZOFFSETTO:-0400
TZNAME:EDT
DTSTART:20220313T070000
END:DAYLIGHT
BEGIN:STANDARD
TZOFFSETFROM:-0400
TZOFFSETTO:-0500
TZNAME:EST
DTSTART:20221106T060000
END:STANDARD
BEGIN:DAYLIGHT
TZOFFSETFROM:-0500
TZOFFSETTO:-0400
TZNAME:EDT
DTSTART:20230312T070000
END:DAYLIGHT
BEGIN:STANDARD
TZOFFSETFROM:-0400
TZOFFSETTO:-0500
TZNAME:EST
DTSTART:20231105T060000
END:STANDARD
END:VTIMEZONE
BEGIN:VEVENT
DTSTART;VALUE=DATE:20220827
DTEND;VALUE=DATE:20220828
DTSTAMP:20260424T042033
CREATED:20220815T140827Z
LAST-MODIFIED:20220819T172040Z
UID:53332-1661558400-1661644799@www.stoegercanada.ca
SUMMARY:Initiation Au tir pour Les Femmes
DESCRIPTION:Rifle target shooting and clay pigeon shooting event for women!\nWeapons and ammunition will be provided free of charge. Drinks and snacks will also be available free of charge. Activity reserved for women aged 18 and over (or 16+ accompanied by an adult). \n 
URL:https://www.stoegercanada.ca/event/53332/
LOCATION:Club de tir Bécancour\, 5375 Av. Nicolas Perrot\, Bécancour\, Quebec\, G9H 3C5\, Canada
CATEGORIES:Range Days
ATTACH;FMTTYPE=image/png:https://www.stoegercanada.ca/wp-content/uploads/2022/08/Club-de-Tir-De-Beancour.png
END:VEVENT
END:VCALENDAR